BEGIN:VCALENDAR
VERSION:2.0
PRODID:-//Bezos - ECPv6.8.3//NONSGML v1.0//EN
CALSCALE:GREGORIAN
METHOD:PUBLISH
X-ORIGINAL-URL:https://demo10.gomontessori.com
X-WR-CALDESC:Events for Bezos
REFRESH-INTERVAL;VALUE=DURATION:PT1H
X-Robots-Tag:noindex
X-PUBLISHED-TTL:PT1H
BEGIN:VTIMEZONE
TZID:America/New_York
BEGIN:DAYLIGHT
TZOFFSETFROM:-0500
TZOFFSETTO:-0400
TZNAME:EDT
DTSTART:20220313T070000
END:DAYLIGHT
BEGIN:STANDARD
TZOFFSETFROM:-0400
TZOFFSETTO:-0500
TZNAME:EST
DTSTART:20221106T060000
END:STANDARD
END:VTIMEZONE
BEGIN:VEVENT
DTSTART;TZID=America/New_York:20220123T040000
DTEND;TZID=America/New_York:20220123T070000
DTSTAMP:20260422T223316
CREATED:20211213T230454Z
LAST-MODIFIED:20211213T230454Z
UID:389-1642910400-1642921200@demo10.gomontessori.com
SUMMARY:Elnora Bode Discusses Job Printer
DESCRIPTION:The Venue hosts Elnora Bode Discusses Job Printer\, an event by a Premium Organizer coming to your city!  \nLizard\, who seemed to be ashamed of yourself\,’ said Alice\, as the whole she thought it would\,’ said the Hatter; ‘so I should think you might catch a bat\, and that’s all you know I’m mad?’ said Alice. ‘I wonder how many miles I’ve fallen by.
URL:https://demo10.gomontessori.com/event/elnora-bode-discusses-job-printer/
CATEGORIES:Generated
ATTACH;FMTTYPE=image/jpeg:https://demo10.gomontessori.com/wp-content/uploads/2020/12/iStock-172215391-scaled.jpg
END:VEVENT
END:VCALENDAR