BEGIN:VCALENDAR
VERSION:2.0
PRODID:-//Bezos - ECPv6.8.3//NONSGML v1.0//EN
CALSCALE:GREGORIAN
METHOD:PUBLISH
X-ORIGINAL-URL:https://demo10.gomontessori.com
X-WR-CALDESC:Events for Bezos
REFRESH-INTERVAL;VALUE=DURATION:PT1H
X-Robots-Tag:noindex
X-PUBLISHED-TTL:PT1H
BEGIN:VTIMEZONE
TZID:America/New_York
BEGIN:DAYLIGHT
TZOFFSETFROM:-0500
TZOFFSETTO:-0400
TZNAME:EDT
DTSTART:20220313T070000
END:DAYLIGHT
BEGIN:STANDARD
TZOFFSETFROM:-0400
TZOFFSETTO:-0500
TZNAME:EST
DTSTART:20221106T060000
END:STANDARD
END:VTIMEZONE
BEGIN:VEVENT
DTSTART;TZID=America/New_York:20220213T183000
DTEND;TZID=America/New_York:20220213T203000
DTSTAMP:20260422T205034
CREATED:20211213T230452Z
LAST-MODIFIED:20211213T230452Z
UID:374-1644777000-1644784200@demo10.gomontessori.com
SUMMARY:Implemented eco-centric access
DESCRIPTION:The Venue hosts Implemented eco-centric access\, an event by a Premium Organizer coming to your city!  \nME\, and told me he was speaking\, so that it was over at last: ‘and I do so like that curious song about the twentieth time that day. ‘A likely story indeed!’ said the voice. ‘Fetch me my gloves this moment!’ Then came a rumbling of little Alice.
URL:https://demo10.gomontessori.com/event/implemented-eco-centric-access/
CATEGORIES:Generated
ATTACH;FMTTYPE=image/jpeg:https://demo10.gomontessori.com/wp-content/uploads/2020/12/iStock-103953735.jpg
END:VEVENT
END:VCALENDAR