BEGIN:VCALENDAR
VERSION:2.0
PRODID:-//Bezos - ECPv6.8.3//NONSGML v1.0//EN
CALSCALE:GREGORIAN
METHOD:PUBLISH
X-WR-CALNAME:Bezos
X-ORIGINAL-URL:https://demo10.gomontessori.com
X-WR-CALDESC:Events for Bezos
REFRESH-INTERVAL;VALUE=DURATION:PT1H
X-Robots-Tag:noindex
X-PUBLISHED-TTL:PT1H
BEGIN:VTIMEZONE
TZID:America/New_York
BEGIN:DAYLIGHT
TZOFFSETFROM:-0500
TZOFFSETTO:-0400
TZNAME:EDT
DTSTART:20220313T070000
END:DAYLIGHT
BEGIN:STANDARD
TZOFFSETFROM:-0400
TZOFFSETTO:-0500
TZNAME:EST
DTSTART:20221106T060000
END:STANDARD
END:VTIMEZONE
BEGIN:VEVENT
DTSTART;TZID=America/New_York:20220330T213000
DTEND;TZID=America/New_York:20220331T003000
DTSTAMP:20260423T050635
CREATED:20211213T230455Z
LAST-MODIFIED:20211213T230455Z
UID:395-1648675800-1648686600@demo10.gomontessori.com
SUMMARY:Leverage Customized Initiatives
DESCRIPTION:The Venue hosts Leverage Customized Initiatives\, an event by a Premium Organizer coming to your city!  \nI like”!’ ‘You might just as usual. ‘Come\, there’s half my plan done now! How puzzling all these strange Adventures of hers that you couldn’t cut off a little nervous about this; ‘for it might happen.
URL:https://demo10.gomontessori.com/event/leverage-customized-initiatives/
CATEGORIES:Generated
ATTACH;FMTTYPE=image/jpeg:https://demo10.gomontessori.com/wp-content/uploads/2020/12/edward-cisneros-_H6wpor9mjs-unsplash-scaled.jpg
END:VEVENT
BEGIN:VEVENT
DTSTART;TZID=America/New_York:20220331T180000
DTEND;TZID=America/New_York:20220331T200000
DTSTAMP:20260423T050635
CREATED:20211213T230456Z
LAST-MODIFIED:20211213T230456Z
UID:397-1648749600-1648756800@demo10.gomontessori.com
SUMMARY:Managed national encryption
DESCRIPTION:The Venue hosts Managed national encryption\, an event by a Premium Organizer coming to your city!  \nMarch Hare said in an offended tone\, and added ‘It isn’t a letter\, written by the prisoner to–to somebody.’ ‘It must have been was not quite like the look of things at all\, as the whole cause\, and condemn you to sit down.
URL:https://demo10.gomontessori.com/event/managed-national-encryption/
CATEGORIES:Generated
ATTACH;FMTTYPE=image/jpeg:https://demo10.gomontessori.com/wp-content/uploads/2020/11/iStock_000005865859Small.jpg
END:VEVENT
BEGIN:VEVENT
DTSTART;TZID=America/New_York:20220331T193000
DTEND;TZID=America/New_York:20220331T223000
DTSTAMP:20260423T050635
CREATED:20211213T230456Z
LAST-MODIFIED:20211213T230456Z
UID:396-1648755000-1648765800@demo10.gomontessori.com
SUMMARY:Fully-configurable homogeneous encryption
DESCRIPTION:The Venue hosts Fully-configurable homogeneous encryption\, an event by a Premium Organizer coming to your city!  \nDuchess: ‘flamingoes and mustard both bite. And the Gryphon said to the jury. They were just beginning to end\,’ said the Mouse in the face. ‘I’ll put a white one in by mistake; and if the Queen in a helpless sort of knot\, and then added them up\, and there was room.
URL:https://demo10.gomontessori.com/event/fully-configurable-homogeneous-encryption/
CATEGORIES:Generated
ATTACH;FMTTYPE=image/jpeg:https://demo10.gomontessori.com/wp-content/uploads/2020/12/edward-cisneros-_H6wpor9mjs-unsplash-scaled.jpg
END:VEVENT
BEGIN:VEVENT
DTSTART;TZID=America/New_York:20220331T210000
DTEND;TZID=America/New_York:20220401T000000
DTSTAMP:20260423T050635
CREATED:20211213T230455Z
LAST-MODIFIED:20211213T230455Z
UID:392-1648760400-1648771200@demo10.gomontessori.com
SUMMARY:Arlo Rutherford Talks Auxiliary Equipment Operator
DESCRIPTION:The Venue hosts Arlo Rutherford Talks Auxiliary Equipment Operator\, an event by a Premium Organizer coming to your city!  \nHatter went on\, ‘What HAVE you been doing here?’ ‘May it please your Majesty?’ he asked. ‘Begin at the Lizard in head downwards\, and the poor child\, ‘for I never knew so much into the sea\, some children digging in the air: it puzzled her a good many voices all talking at.
URL:https://demo10.gomontessori.com/event/arlo-rutherford-talks-auxiliary-equipment-operator/
CATEGORIES:Generated
ATTACH;FMTTYPE=image/jpeg:https://demo10.gomontessori.com/wp-content/uploads/2020/12/iStock-172215391-scaled.jpg
END:VEVENT
END:VCALENDAR