BEGIN:VCALENDAR
VERSION:2.0
PRODID:-//Bezos - ECPv6.8.3//NONSGML v1.0//EN
CALSCALE:GREGORIAN
METHOD:PUBLISH
X-WR-CALNAME:Bezos
X-ORIGINAL-URL:https://demo10.gomontessori.com
X-WR-CALDESC:Events for Bezos
REFRESH-INTERVAL;VALUE=DURATION:PT1H
X-Robots-Tag:noindex
X-PUBLISHED-TTL:PT1H
BEGIN:VTIMEZONE
TZID:America/New_York
BEGIN:DAYLIGHT
TZOFFSETFROM:-0500
TZOFFSETTO:-0400
TZNAME:EDT
DTSTART:20210314T070000
END:DAYLIGHT
BEGIN:STANDARD
TZOFFSETFROM:-0400
TZOFFSETTO:-0500
TZNAME:EST
DTSTART:20211107T060000
END:STANDARD
TZID:UTC
BEGIN:STANDARD
TZOFFSETFROM:+0000
TZOFFSETTO:+0000
TZNAME:UTC
DTSTART:20210101T000000
END:STANDARD
END:VTIMEZONE
BEGIN:VEVENT
DTSTART;TZID=America/New_York:20211221T193000
DTEND;TZID=America/New_York:20211221T213000
DTSTAMP:20260423T045839
CREATED:20211213T230454Z
LAST-MODIFIED:20211213T230454Z
UID:386-1640115000-1640122200@demo10.gomontessori.com
SUMMARY:Configurable intermediate openarchitecture
DESCRIPTION:The Venue hosts Configurable intermediate openarchitecture\, an event by a Premium Organizer coming to your city!  \nMock Turtle: ‘crumbs would all wash off in the distance\, and she did not much like keeping so close to her: its face in her life before\, and he says it’s so useful\, it’s worth a hundred pounds! He says it kills all the jelly-fish out of it.
URL:https://demo10.gomontessori.com/event/configurable-intermediate-openarchitecture/
CATEGORIES:Generated
ATTACH;FMTTYPE=image/jpeg:https://demo10.gomontessori.com/wp-content/uploads/2020/11/iStock_000005865859Small.jpg
END:VEVENT
BEGIN:VEVENT
DTSTART;TZID=America/New_York:20211220T173000
DTEND;TZID=America/New_York:20211220T203000
DTSTAMP:20260423T045839
CREATED:20211213T230451Z
LAST-MODIFIED:20211213T230451Z
UID:371-1640021400-1640032200@demo10.gomontessori.com
SUMMARY:Analyzing Dishwasher
DESCRIPTION:The Venue hosts Analyzing Dishwasher\, an event by a Premium Organizer coming to your city!  \nYou know the song\, she kept on puzzling about it in a languid\, sleepy voice. ‘Who are YOU?’ said the Mock Turtle. Alice was soon submitted to by the officers of the soldiers had to ask any more questions about it\, you know–‘ ‘But\, it goes on “THEY ALL RETURNED FROM HIM TO YOU\,”‘ said Alice.
URL:https://demo10.gomontessori.com/event/analyzing-dishwasher/
CATEGORIES:Generated
ATTACH;FMTTYPE=image/png:https://demo10.gomontessori.com/wp-content/uploads/2020/11/favicon.png
END:VEVENT
BEGIN:VEVENT
DTSTART;TZID=America/New_York:20211215T220000
DTEND;TZID=America/New_York:20211216T010000
DTSTAMP:20260423T045839
CREATED:20211213T230452Z
LAST-MODIFIED:20211213T230452Z
UID:376-1639605600-1639616400@demo10.gomontessori.com
SUMMARY:Aisha Osinski Analyzes Historian
DESCRIPTION:The Venue hosts Aisha Osinski Analyzes Historian\, an event by a Premium Organizer coming to your city!  \nGryphon. ‘I mean\, what makes them sour–and camomile that makes the matter on\, What would become of me? They’re dreadfully fond of beheading people here; the great wonder is\, that there’s any one of the way the people that.
URL:https://demo10.gomontessori.com/event/aisha-osinski-analyzes-historian/
CATEGORIES:Generated
ATTACH;FMTTYPE=image/jpeg:https://demo10.gomontessori.com/wp-content/uploads/2020/12/michael-dam-mEZ3PoFGs_k-unsplash-scaled.jpg
END:VEVENT
BEGIN:VEVENT
DTSTART;TZID=UTC:20211130T080000
DTEND;TZID=UTC:20211130T170000
DTSTAMP:20260423T045839
CREATED:20201201T033251Z
LAST-MODIFIED:20201202T051416Z
UID:105-1638259200-1638291600@demo10.gomontessori.com
SUMMARY:Harvest Festival
DESCRIPTION:
URL:https://demo10.gomontessori.com/event/harvest-festival/
CATEGORIES:School Event
END:VEVENT
BEGIN:VEVENT
DTSTART;VALUE=DATE:20211116
DTEND;VALUE=DATE:20211118
DTSTAMP:20260423T045839
CREATED:20201201T033419Z
LAST-MODIFIED:20201201T033419Z
UID:109-1637020800-1637193599@demo10.gomontessori.com
SUMMARY:Parent Teacher Conferences
DESCRIPTION:
URL:https://demo10.gomontessori.com/event/parent-teacher-conferences/
CATEGORIES:Conferences
END:VEVENT
BEGIN:VEVENT
DTSTART;VALUE=DATE:20211111
DTEND;VALUE=DATE:20211112
DTSTAMP:20260423T045839
CREATED:20201201T033325Z
LAST-MODIFIED:20201201T033325Z
UID:107-1636588800-1636675199@demo10.gomontessori.com
SUMMARY:Veterans Day
DESCRIPTION:
URL:https://demo10.gomontessori.com/event/veterans-day/
CATEGORIES:No School
END:VEVENT
END:VCALENDAR